BEGIN:VCALENDAR
VERSION:2.0
PRODID:-// - ECPv6.15.18//NONSGML v1.0//EN
CALSCALE:GREGORIAN
METHOD:PUBLISH
X-ORIGINAL-URL:https://www.badgeandshieldclub.com
X-WR-CALDESC:Events for 
REFRESH-INTERVAL;VALUE=DURATION:PT1H
X-Robots-Tag:noindex
X-PUBLISHED-TTL:PT1H
BEGIN:VTIMEZONE
TZID:America/New_York
BEGIN:DAYLIGHT
TZOFFSETFROM:-0500
TZOFFSETTO:-0400
TZNAME:EDT
DTSTART:20230312T070000
END:DAYLIGHT
BEGIN:STANDARD
TZOFFSETFROM:-0400
TZOFFSETTO:-0500
TZNAME:EST
DTSTART:20231105T060000
END:STANDARD
BEGIN:DAYLIGHT
TZOFFSETFROM:-0500
TZOFFSETTO:-0400
TZNAME:EDT
DTSTART:20240310T070000
END:DAYLIGHT
BEGIN:STANDARD
TZOFFSETFROM:-0400
TZOFFSETTO:-0500
TZNAME:EST
DTSTART:20241103T060000
END:STANDARD
BEGIN:DAYLIGHT
TZOFFSETFROM:-0500
TZOFFSETTO:-0400
TZNAME:EDT
DTSTART:20250309T070000
END:DAYLIGHT
BEGIN:STANDARD
TZOFFSETFROM:-0400
TZOFFSETTO:-0500
TZNAME:EST
DTSTART:20251102T060000
END:STANDARD
END:VTIMEZONE
BEGIN:VTIMEZONE
TZID:UTC
BEGIN:STANDARD
TZOFFSETFROM:+0000
TZOFFSETTO:+0000
TZNAME:UTC
DTSTART:20210101T000000
END:STANDARD
END:VTIMEZONE
BEGIN:VEVENT
DTSTART;TZID=America/New_York:20240415T080000
DTEND;TZID=America/New_York:20240415T170000
DTSTAMP:20260421T214121
CREATED:20240102T020538Z
LAST-MODIFIED:20240102T024941Z
UID:387-1713168000-1713200400@www.badgeandshieldclub.com
SUMMARY:April 2024 Monthly Meeting - Members and Guests
DESCRIPTION:
URL:https://www.badgeandshieldclub.com/event/april-2024-monthly-meeting-members-and-guests/
LOCATION:Knights of Columbus\, 2735 Union Road\, Cheektowaga\, NY\, United States
END:VEVENT
BEGIN:VEVENT
DTSTART;TZID=America/New_York:20240318T183000
DTEND;TZID=America/New_York:20240318T213000
DTSTAMP:20260421T214121
CREATED:20240102T020425Z
LAST-MODIFIED:20240102T024958Z
UID:385-1710786600-1710797400@www.badgeandshieldclub.com
SUMMARY:March 2024 Monthly Meeting - Members Only
DESCRIPTION:
URL:https://www.badgeandshieldclub.com/event/march-2024-monthly-meeting-members-only/
LOCATION:Buffalo’s Best\, 3700 Southwestern Blvd\, Orchard Park\, 14127\, United States
END:VEVENT
BEGIN:VEVENT
DTSTART;TZID=America/New_York:20240219T183000
DTEND;TZID=America/New_York:20240219T213000
DTSTAMP:20260421T214121
CREATED:20240102T020255Z
LAST-MODIFIED:20240102T025017Z
UID:383-1708367400-1708378200@www.badgeandshieldclub.com
SUMMARY:February 2024 Monthly Meeting - Members and Guests
DESCRIPTION:
URL:https://www.badgeandshieldclub.com/event/february-2024-monthly-meeting-members-and-guests/
LOCATION:American  Legion Post\, 962 Weherle Drive\, Williamsville\, NY\, United States
END:VEVENT
BEGIN:VEVENT
DTSTART;TZID=America/New_York:20240122T183000
DTEND;TZID=America/New_York:20240122T213000
DTSTAMP:20260421T214121
CREATED:20240102T015959Z
LAST-MODIFIED:20240102T025531Z
UID:381-1705948200-1705959000@www.badgeandshieldclub.com
SUMMARY:January 2024 Monthly Meeting - Members Only
DESCRIPTION:
URL:https://www.badgeandshieldclub.com/event/january-2024-monthly-meeting-members-only/
LOCATION:B&W’s BBQ\, 5007 Lake Avenue\, Buffalo\, NY\, 14219\, United States
END:VEVENT
BEGIN:VEVENT
DTSTART;TZID=UTC:20221022T170000
DTEND;TZID=UTC:20221022T230000
DTSTAMP:20260421T214121
CREATED:20220929T050948Z
LAST-MODIFIED:20220929T050948Z
UID:181-1666458000-1666479600@www.badgeandshieldclub.com
SUMMARY:Annual Badge and Shield Retirements and Awards Banquet
DESCRIPTION:The dinner will take place at the Creekside Banquet Facility located at William and Union in Cheektowaga. Tickets are $75 per person and are available by contacting Joanie Adymy add joan.adymy@erie.gov or (716) 858-8088. The deadline for ticket purchases is October 7th\, 2022. Please plan on joining us.
URL:https://www.badgeandshieldclub.com/event/annual-badge-and-shield-retirements-and-awards-banquet/
LOCATION:Creekside Banquet Facility\, 2669 Union Road\, Cheektowaga\, NY\, 14227\, United States
END:VEVENT
END:VCALENDAR