BEGIN:VCALENDAR
VERSION:2.0
PRODID:-// - ECPv6.15.18//NONSGML v1.0//EN
CALSCALE:GREGORIAN
METHOD:PUBLISH
X-ORIGINAL-URL:https://www.badgeandshieldclub.com
X-WR-CALDESC:Events for 
REFRESH-INTERVAL;VALUE=DURATION:PT1H
X-Robots-Tag:noindex
X-PUBLISHED-TTL:PT1H
BEGIN:VTIMEZONE
TZID:America/New_York
BEGIN:DAYLIGHT
TZOFFSETFROM:-0500
TZOFFSETTO:-0400
TZNAME:EDT
DTSTART:20250309T070000
END:DAYLIGHT
BEGIN:STANDARD
TZOFFSETFROM:-0400
TZOFFSETTO:-0500
TZNAME:EST
DTSTART:20251102T060000
END:STANDARD
BEGIN:DAYLIGHT
TZOFFSETFROM:-0500
TZOFFSETTO:-0400
TZNAME:EDT
DTSTART:20260308T070000
END:DAYLIGHT
BEGIN:STANDARD
TZOFFSETFROM:-0400
TZOFFSETTO:-0500
TZNAME:EST
DTSTART:20261101T060000
END:STANDARD
BEGIN:DAYLIGHT
TZOFFSETFROM:-0500
TZOFFSETTO:-0400
TZNAME:EDT
DTSTART:20270314T070000
END:DAYLIGHT
BEGIN:STANDARD
TZOFFSETFROM:-0400
TZOFFSETTO:-0500
TZNAME:EST
DTSTART:20271107T060000
END:STANDARD
END:VTIMEZONE
BEGIN:VEVENT
DTSTART;TZID=America/New_York:20261116T183000
DTEND;TZID=America/New_York:20261116T210000
DTSTAMP:20260422T072033
CREATED:20260108T205219Z
LAST-MODIFIED:20260108T215632Z
UID:651-1794853800-1794862800@www.badgeandshieldclub.com
SUMMARY:November 2026 Monthly Meeting - Members & Guests
DESCRIPTION:
URL:https://www.badgeandshieldclub.com/event/november-2026-monthly-meeting-members-guests/
LOCATION:Olympic Restaurant\, 1601 Military Road\, Buffalo\, NY\, 14217\, United States
END:VEVENT
BEGIN:VEVENT
DTSTART;TZID=America/New_York:20261221T183000
DTEND;TZID=America/New_York:20261221T210000
DTSTAMP:20260422T072033
CREATED:20260108T205414Z
LAST-MODIFIED:20260108T215607Z
UID:653-1797877800-1797886800@www.badgeandshieldclub.com
SUMMARY:Christmas 2026 Monthly Meeting - Members & Guests
DESCRIPTION:
URL:https://www.badgeandshieldclub.com/event/christmas-2026-monthly-meeting-members-guests/
LOCATION:American  Legion Post\, 962 Weherle Drive\, Williamsville\, NY\, United States
END:VEVENT
END:VCALENDAR